BEGIN:VCALENDAR
VERSION:2.0
PRODID:-//The American Heritage Museum - ECPv5.13.0//NONSGML v1.0//EN
CALSCALE:GREGORIAN
METHOD:PUBLISH
X-WR-CALNAME:The American Heritage Museum
X-ORIGINAL-URL:https://www.americanheritagemuseum.org
X-WR-CALDESC:Events for The American Heritage Museum
BEGIN:VTIMEZONE
TZID:America/New_York
BEGIN:DAYLIGHT
TZOFFSETFROM:-0500
TZOFFSETTO:-0400
TZNAME:EDT
DTSTART:20250309T070000
END:DAYLIGHT
BEGIN:STANDARD
TZOFFSETFROM:-0400
TZOFFSETTO:-0500
TZNAME:EST
DTSTART:20251102T060000
END:STANDARD
END:VTIMEZONE
BEGIN:VEVENT
DTSTART;TZID=America/New_York:20251025T100000
DTEND;TZID=America/New_York:20251025T170000
DTSTAMP:20260422T144616
CREATED:20251015T190004Z
LAST-MODIFIED:20251015T190229Z
UID:13279-1761386400-1761411600@www.americanheritagemuseum.org
SUMMARY:Tank or Treat! October 25th - N/C for kids in costume.
DESCRIPTION:In celebration of Halloween on Saturday\, October 25th  – All children 16 years and younger in costume get free admission with a paid adult admission. Come join us for some Halloween festivities!
URL:https://www.americanheritagemuseum.org/event/tank-or-treat/
CATEGORIES:CF Events
ATTACH;FMTTYPE=image/png:https://www.americanheritagemuseum.org/wp-content/uploads/5642a884-258e-4a59-a5f6-aae8ff15b458.png
END:VEVENT
END:VCALENDAR