BEGIN:VCALENDAR
VERSION:2.0
PRODID:-//The American Heritage Museum - ECPv5.13.0//NONSGML v1.0//EN
CALSCALE:GREGORIAN
METHOD:PUBLISH
X-WR-CALNAME:The American Heritage Museum
X-ORIGINAL-URL:https://www.americanheritagemuseum.org
X-WR-CALDESC:Events for The American Heritage Museum
BEGIN:VTIMEZONE
TZID:America/New_York
BEGIN:DAYLIGHT
TZOFFSETFROM:-0500
TZOFFSETTO:-0400
TZNAME:EDT
DTSTART:20240310T070000
END:DAYLIGHT
BEGIN:STANDARD
TZOFFSETFROM:-0400
TZOFFSETTO:-0500
TZNAME:EST
DTSTART:20241103T060000
END:STANDARD
END:VTIMEZONE
BEGIN:VEVENT
DTSTART;TZID=America/New_York:20241213T130000
DTEND;TZID=America/New_York:20241213T143000
DTSTAMP:20260421T024128
CREATED:20241121T145743Z
LAST-MODIFIED:20241121T145743Z
UID:12471-1734094800-1734100200@www.americanheritagemuseum.org
SUMMARY:Speaker Series: How To Research WWII Veterans
DESCRIPTION:Autumn Hendrickson\, who has spent the last four and a half years working on a project to tell the stories of the men and women from Reading & North Reading\, Massachusetts that served in World War II\, comes to the American Heritage Museum to talk about her recent trip to the National Personnel Records Center in St. Louis\, MO. \nShe’ll take the time to talk about her research process and how other people can research their own WWII veteran of interest while incorporating some stories of men and women she’s researched.
URL:https://www.americanheritagemuseum.org/event/speaker-series-how-to-research-wwii-veterans/
CATEGORIES:Speaker Series
ATTACH;FMTTYPE=image/webp:https://www.americanheritagemuseum.org/wp-content/uploads/IWO-JIMA-110109-scaled-4th-marines.webp
END:VEVENT
END:VCALENDAR