BEGIN:VCALENDAR
VERSION:2.0
PRODID:-//The American Heritage Museum - ECPv5.13.0//NONSGML v1.0//EN
CALSCALE:GREGORIAN
METHOD:PUBLISH
X-WR-CALNAME:The American Heritage Museum
X-ORIGINAL-URL:https://www.americanheritagemuseum.org
X-WR-CALDESC:Events for The American Heritage Museum
BEGIN:VTIMEZONE
TZID:America/New_York
BEGIN:DAYLIGHT
TZOFFSETFROM:-0500
TZOFFSETTO:-0400
TZNAME:EDT
DTSTART:20260308T070000
END:DAYLIGHT
BEGIN:STANDARD
TZOFFSETFROM:-0400
TZOFFSETTO:-0500
TZNAME:EST
DTSTART:20261101T060000
END:STANDARD
END:VTIMEZONE
BEGIN:VEVENT
DTSTART;TZID=America/New_York:20260221T100000
DTEND;TZID=America/New_York:20260221T150000
DTSTAMP:20260423T090828
CREATED:20260209T214016Z
LAST-MODIFIED:20260209T214016Z
UID:13472-1771668000-1771686000@www.americanheritagemuseum.org
SUMMARY:Learn About Armor Scale Modeling: Minuteman AMPS Chapter Monthly Meeting & Build Day
DESCRIPTION:Join the Minuteman Chapter of the Armor Modeling and Preservation Society (AMPS) for a Monthly Meeting and Scale Model Build Day at the American Heritage Museum in Hudson\, MA on the third Saturday of every month\, from 10:00 AM to 3:00 PM. \nWatch skilled modelers as they work on their latest projects\, learn more about the scale modeling hobby\, and pick up tips on tools\, painting\, weathering\, and detailing. You are also welcome to bring your own project and get hands-on help and advanced techniques from experienced club members. \nThe build day takes place right on the museum display floor\, surrounded by world-class tanks\, military vehicles\, and aircraft\, where history and craftsmanship come together. \nThe purpose of AMPS is to foster a knowledge and appreciation of the history of armored vehicles\, through examination of preserved examples located in both museums and private collections\, in miniature through modeling. The Minuteman Chapter of AMPS represents modelers in Central Massachusetts. \nClick here to join the Minuteman AMPS Chapter Facebook Group
URL:https://www.americanheritagemuseum.org/event/learn-about-armor-scale-modeling-minuteman-amps-chapter-monthly-meeting-build-day-2-21-26/
LOCATION:American Heritage Museum\, 568 Main Street\, Hudson\, MA\, 01749\, United States
CATEGORIES:American Heritage Museum
ATTACH;FMTTYPE=image/jpeg:https://www.americanheritagemuseum.org/wp-content/uploads/amps-meeting-ahm-minuteman-chapter-monthly.jpg
ORGANIZER;CN="Minuteman%20AMPS%20Chapter":MAILTO:frank.froment@gmail.com
END:VEVENT
END:VCALENDAR