BEGIN:VCALENDAR
VERSION:2.0
PRODID:-//The American Heritage Museum - ECPv5.13.0//NONSGML v1.0//EN
CALSCALE:GREGORIAN
METHOD:PUBLISH
X-WR-CALNAME:The American Heritage Museum
X-ORIGINAL-URL:https://www.americanheritagemuseum.org
X-WR-CALDESC:Events for The American Heritage Museum
BEGIN:VTIMEZONE
TZID:Africa/Abidjan
BEGIN:STANDARD
TZOFFSETFROM:+0000
TZOFFSETTO:+0000
TZNAME:GMT
DTSTART:20210101T000000
END:STANDARD
END:VTIMEZONE
BEGIN:VEVENT
DTSTART;TZID=Africa/Abidjan:20210318T120000
DTEND;TZID=Africa/Abidjan:20210318T133000
DTSTAMP:20260424T080703
CREATED:20210126T004605Z
LAST-MODIFIED:20210430T180112Z
UID:9180-1616068800-1616074200@www.americanheritagemuseum.org
SUMMARY:IHI / AHM Speaker Series: "Unwearing of the Green: Republican Skeletons in Ulster Protestant Closets"
DESCRIPTION:By Professor of Modern History at Ben-Gurion University of the Negev. He has held senior research fellowships at Trinity College Dublin\, University of Notre Dame\, Central European University\, University of Oxford\, and was the Burns Scholar at Boston College.\nHe specializes in the study of remembering and forgetting\, notably in Ireland. His books Remembering the Year of the French: Irish Folk History and Social Memory (Wisconsin) and Forgetful Remembrance: Rebellion in Ulster (Oxford) have won multiple awards. \nTime: Mar 18\, 2021 12:00 PM Eastern Time (US and Canada)\n\nJoin Zoom Meeting\nhttps://bostonu.zoom.us/j/92132447880?pwd=MFpidm1TQTJZOW1QVkFTV3QvN0lFQT09\n\nMeeting ID: 921 3244 7880\nPasscode: 979161
URL:https://www.americanheritagemuseum.org/event/ihi-ahm-speaker-series-unwearing-of-the-green-republican-skeletons-in-ulster-prodestant-closets/
CATEGORIES:American Heritage Museum,Speaker Series
ATTACH;FMTTYPE=image/jpeg:https://www.americanheritagemuseum.org/wp-content/uploads/2021/01/IHI-2021-Unwearing-of-the-Green-1-1.jpg
END:VEVENT
END:VCALENDAR